BEGIN:VCALENDAR
VERSION:2.0
PRODID:cridup.pantheonsorbonne.fr
X-WR-TIMEZONE:Europe/Paris
BEGIN:VTIMEZONE
TZID:Europe/Paris
X-LIC-LOCATION:Europe/Paris
BEGIN:DAYLIGHT
TZNAME:CEST
TZOFFSETFROM:+0100
TZOFFSETTO:+0200
DTSTART:20260329T010000
END:DAYLIGHT
BEGIN:DAYLIGHT
TZNAME:CEST
TZOFFSETFROM:+0100
TZOFFSETTO:+0200
DTSTART:20270328T010000
END:DAYLIGHT
BEGIN:STANDARD
TZNAME:CET
TZOFFSETFROM:+0200
TZOFFSETTO:+0100
DTSTART:20251026T010000
END:STANDARD
BEGIN:STANDARD
TZNAME:CET
TZOFFSETFROM:+0200
TZOFFSETTO:+0100
DTSTART:20261025T010000
END:STANDARD
END:VTIMEZONE
BEGIN:VEVENT
UID:9a8b887d83834d31eabbe0486a9432b5
DTSTART;TZID=Europe/Paris:20260421T093000
SEQUENCE:0
TRANSP:OPAQUE
URL:https://cridup.pantheonsorbonne.fr/evenements
SUMMARY:Comment expliquer l’évolution récente de la mortalité infantil
 e en France ?
CLASS:PUBLIC
DESCRIPTION:Campus Condorcet Bâtiment Recherche Sud - Salle 5.023 - 5 cour
 s des\nHumanités 93322 Aubervilliers
X-ALT-DESC;FMTTYPE=text/html:Campus Condorcet Bâtiment Recherche Sud - Sal
 le 5.023 - 5 cours des Humanités 93322 Aubervilliers\n\n
DTSTAMP:20260330T114552Z
END:VEVENT
END:VCALENDAR