BEGIN:VCALENDAR
VERSION:2.0
PRODID:recherche.pantheonsorbonne.fr
X-WR-TIMEZONE:Europe/Paris
BEGIN:VTIMEZONE
TZID:Europe/Paris
X-LIC-LOCATION:Europe/Paris
BEGIN:DAYLIGHT
TZNAME:CEST
TZOFFSETFROM:+0100
TZOFFSETTO:+0200
DTSTART:20260329T010000
END:DAYLIGHT
BEGIN:DAYLIGHT
TZNAME:CEST
TZOFFSETFROM:+0100
TZOFFSETTO:+0200
DTSTART:20270328T010000
END:DAYLIGHT
BEGIN:STANDARD
TZNAME:CET
TZOFFSETFROM:+0200
TZOFFSETTO:+0100
DTSTART:20251026T010000
END:STANDARD
BEGIN:STANDARD
TZNAME:CET
TZOFFSETFROM:+0200
TZOFFSETTO:+0100
DTSTART:20261025T010000
END:STANDARD
END:VTIMEZONE
BEGIN:VEVENT
UID:5726c78e63740c434e8a0bbf712c9dd1
DTSTART;TZID=Europe/Paris:20260422T134500
SEQUENCE:0
TRANSP:OPAQUE
URL:https://recherche.pantheonsorbonne.fr/evenements
SUMMARY:Des archives aux commissions. Historiens et historiennes face aux v
 iolences sexuelles dans l’Église
CLASS:PUBLIC
DESCRIPTION:Salle 6 - Centre Panthéon
X-ALT-DESC;FMTTYPE=text/html:Salle 6 - Centre Panthéon\n\n
DTSTAMP:20260225T120715Z
END:VEVENT
END:VCALENDAR