BEGIN:VCALENDAR
VERSION:2.0
PRODID:recherche.pantheonsorbonne.fr
X-WR-TIMEZONE:Europe/Paris
BEGIN:VTIMEZONE
TZID:Europe/Paris
X-LIC-LOCATION:Europe/Paris
BEGIN:DAYLIGHT
TZNAME:CEST
TZOFFSETFROM:+0100
TZOFFSETTO:+0200
DTSTART:20260329T010000
END:DAYLIGHT
BEGIN:DAYLIGHT
TZNAME:CEST
TZOFFSETFROM:+0100
TZOFFSETTO:+0200
DTSTART:20270328T010000
END:DAYLIGHT
BEGIN:STANDARD
TZNAME:CET
TZOFFSETFROM:+0200
TZOFFSETTO:+0100
DTSTART:20251026T010000
END:STANDARD
BEGIN:STANDARD
TZNAME:CET
TZOFFSETFROM:+0200
TZOFFSETTO:+0100
DTSTART:20261025T010000
END:STANDARD
END:VTIMEZONE
BEGIN:VEVENT
UID:77b01e2d583f460269b3eb0532a5124b
DTSTART;TZID=Europe/Paris:20260410T173000
SEQUENCE:0
TRANSP:OPAQUE
URL:https://recherche.pantheonsorbonne.fr/evenements
SUMMARY:« The Economic Thinking of Chilean Engineers : Electrification as 
 an Enabler of Development (1935-1956) » autour d&#039\; Adriana CALCAGNO 
 (CIRED)
CLASS:PUBLIC
DESCRIPTION:106 boulevard de l'Hopital 75013 Paris
X-ALT-DESC;FMTTYPE=text/html:106 boulevard de l&#039\;Hopital 75013 Paris\n
 \n
DTSTAMP:20260410T152950Z
END:VEVENT
END:VCALENDAR