BEGIN:VCALENDAR
VERSION:2.0
PRODID:centrehistoire19esiecle.pantheonsorbonne.fr
X-WR-TIMEZONE:Europe/Paris
BEGIN:VTIMEZONE
TZID:Europe/Paris
X-LIC-LOCATION:Europe/Paris
BEGIN:DAYLIGHT
TZNAME:CEST
TZOFFSETFROM:+0100
TZOFFSETTO:+0200
DTSTART:20260329T010000
END:DAYLIGHT
BEGIN:DAYLIGHT
TZNAME:CEST
TZOFFSETFROM:+0100
TZOFFSETTO:+0200
DTSTART:20270328T010000
END:DAYLIGHT
BEGIN:STANDARD
TZNAME:CET
TZOFFSETFROM:+0200
TZOFFSETTO:+0100
DTSTART:20251026T010000
END:STANDARD
BEGIN:STANDARD
TZNAME:CET
TZOFFSETFROM:+0200
TZOFFSETTO:+0100
DTSTART:20261025T010000
END:STANDARD
END:VTIMEZONE
BEGIN:VEVENT
UID:3780f13e4206352309d57df0a95f34a3
DTSTART;TZID=Europe/Paris:20260511T100000
SEQUENCE:0
TRANSP:OPAQUE
URL:https://centrehistoire19esiecle.pantheonsorbonne.fr/evenements
SUMMARY:Doctoriales 2026
CLASS:PUBLIC
DESCRIPTION:Salle G073
X-ALT-DESC;FMTTYPE=text/html:Salle G073\n\n
DTSTAMP:20260415T143945Z
END:VEVENT
END:VCALENDAR