BEGIN:VCALENDAR
VERSION:2.0
PRODID:gis-eurolab.pantheonsorbonne.fr
X-WR-TIMEZONE:Europe/Paris
BEGIN:VTIMEZONE
TZID:Europe/Paris
X-LIC-LOCATION:Europe/Paris
BEGIN:DAYLIGHT
TZNAME:CEST
TZOFFSETFROM:+0100
TZOFFSETTO:+0200
DTSTART:20260329T010000
END:DAYLIGHT
BEGIN:DAYLIGHT
TZNAME:CEST
TZOFFSETFROM:+0100
TZOFFSETTO:+0200
DTSTART:20270328T010000
END:DAYLIGHT
BEGIN:STANDARD
TZNAME:CET
TZOFFSETFROM:+0200
TZOFFSETTO:+0100
DTSTART:20251026T010000
END:STANDARD
BEGIN:STANDARD
TZNAME:CET
TZOFFSETFROM:+0200
TZOFFSETTO:+0100
DTSTART:20261025T010000
END:STANDARD
END:VTIMEZONE
BEGIN:VEVENT
UID:de32856eb8c3f72aceffeabe9ba5692f
DTSTART;TZID=Europe/Paris:20260423T101500
SEQUENCE:0
TRANSP:OPAQUE
URL:https://gis-eurolab.pantheonsorbonne.fr/evenements
SUMMARY:Journées d&#039\;études - Les données ouvertes de l&#039\;UE : q
 uels usages ?
CLASS:PUBLIC
DESCRIPTION:Université Paris 1 Panthéon-Sorbonne\, centre Sorbonne - sall
 e J-B.\nDuroselle\, 14 rue Cujas\, 75005 PARIS
X-ALT-DESC;FMTTYPE=text/html:Université Paris 1 Panthéon-Sorbonne\, centr
 e Sorbonne - salle J-B. Duroselle\, 14 rue Cujas\, 75005 PARIS \n\n
DTSTAMP:20260402T093010Z
END:VEVENT
END:VCALENDAR