BEGIN:VCALENDAR
VERSION:2.0
PRODID:demarts.pantheonsorbonne.fr
X-WR-TIMEZONE:Europe/Paris
BEGIN:VTIMEZONE
TZID:Europe/Paris
X-LIC-LOCATION:Europe/Paris
BEGIN:DAYLIGHT
TZNAME:CEST
TZOFFSETFROM:+0100
TZOFFSETTO:+0200
DTSTART:20260329T010000
END:DAYLIGHT
BEGIN:DAYLIGHT
TZNAME:CEST
TZOFFSETFROM:+0100
TZOFFSETTO:+0200
DTSTART:20270328T010000
END:DAYLIGHT
BEGIN:STANDARD
TZNAME:CET
TZOFFSETFROM:+0200
TZOFFSETTO:+0100
DTSTART:20251026T010000
END:STANDARD
BEGIN:STANDARD
TZNAME:CET
TZOFFSETFROM:+0200
TZOFFSETTO:+0100
DTSTART:20261025T010000
END:STANDARD
END:VTIMEZONE
BEGIN:VEVENT
UID:465f025011009157f3b30c8e32549f63
DTSTART;TZID=Europe/Paris:20260421T160000
SEQUENCE:0
TRANSP:OPAQUE
URL:https://demarts.pantheonsorbonne.fr/evenements
SUMMARY:2ᵉ cycle de séminaires DEM’ARTS - sixième séance
CLASS:PUBLIC
DESCRIPTION:Salle 6 du Centre Panthéon\, 12 place du Panthéon\, 75005 Par
 is
X-ALT-DESC;FMTTYPE=text/html:Salle 6 du Centre Panthéon\, 12 place du Pant
 héon\, 75005 Paris \n\n
DTSTAMP:20260417T155046Z
END:VEVENT
END:VCALENDAR