BEGIN:VCALENDAR
VERSION:2.0
PRODID:eirest.pantheonsorbonne.fr
X-WR-TIMEZONE:Europe/Paris
BEGIN:VTIMEZONE
TZID:Europe/Paris
X-LIC-LOCATION:Europe/Paris
BEGIN:DAYLIGHT
TZNAME:CEST
TZOFFSETFROM:+0100
TZOFFSETTO:+0200
DTSTART:20260329T010000
END:DAYLIGHT
BEGIN:DAYLIGHT
TZNAME:CEST
TZOFFSETFROM:+0100
TZOFFSETTO:+0200
DTSTART:20270328T010000
END:DAYLIGHT
BEGIN:STANDARD
TZNAME:CET
TZOFFSETFROM:+0200
TZOFFSETTO:+0100
DTSTART:20251026T010000
END:STANDARD
BEGIN:STANDARD
TZNAME:CET
TZOFFSETFROM:+0200
TZOFFSETTO:+0100
DTSTART:20261025T010000
END:STANDARD
END:VTIMEZONE
BEGIN:VEVENT
UID:f5f0ef311c5ac66cad078d374837a1c9
DTSTART;TZID=Europe/Paris:20260423T093000
SEQUENCE:0
TRANSP:OPAQUE
URL:https://eirest.pantheonsorbonne.fr/evenements
SUMMARY:Heritage and the Metropolis.  Heritage dynamics in the urban periph
 eries 
CLASS:PUBLIC
DESCRIPTION:Paris\, Auditorium MSH Paris Nord
X-ALT-DESC;FMTTYPE=text/html:Paris\, Auditorium MSH Paris Nord\n\n
DTSTAMP:20260409T151158Z
END:VEVENT
END:VCALENDAR